Workbook

Sheet Лист1
A1: СВОДНАЯ
A3: № | B3: Наименование конкурса | C3: Количество муниципальных образований, принявших участие в конкурсе в 2024 году, ед.
C4: всего | D4: в том числе:
D5: городские округа | E5: муниципальные округа | F5: муниципальные районы | G5: городские поселения | H5: сельские поселения | I5: внутригородские муниципальные образования городов федерального значения
A6: 1. | B6: Всероссийский конкурс "Лучшая муниципальная практика", в номинациях: | C6: 4 | D6: ='Аларский район'!D6+АГО!D6+'Байкальское городское поселение'!D6+'Иркутский район'!D6+'Осинский район'!D6+'Город Свирск'!D6+'Город Слюдянка'!D6+'город Тулун'!D6+'Усть-Илимск'!D6+Хомутово!D6+Черемхово!D6+'Черемховский район'!D6+'Город Иркутск '!D6+'Усольский район'!D6 -> 2 | E6: ='Аларский район'!E6+АГО!E6+'Байкальское городское поселение'!E6+'Иркутский район'!E6+'Осинский район'!E6+'Город Свирск'!E6+'Город Слюдянка'!E6+'город Тулун'!E6+'Усть-Илимск'!E6+Хомутово!E6+Черемхово!E6+'Черемховский район'!E6+'Город Иркутск '!E6+'Усольский район'!E6 -> 0 | F6: ='Аларский район'!F6+АГО!F6+'Байкальское городское поселение'!F6+'Иркутский район'!F6+'Осинский район'!F6+'Город Свирск'!F6+'Город Слюдянка'!F6+'город Тулун'!F6+'Усть-Илимск'!F6+Хомутово!F6+Черемхово!F6+'Черемховский район'!F6+'Город Иркутск '!F6+'Усольский район'!F6 -> 0 | G6: ='Аларский район'!G6+АГО!G6+'Байкальское городское поселение'!G6+'Иркутский район'!G6+'Осинский район'!G6+'Город Свирск'!G6+'Город Слюдянка'!G6+'город Тулун'!G6+'Усть-Илимск'!G6+Хомутово!G6+Черемхово!G6+'Черемховский район'!G6+'Город Иркутск '!G6+'Усольский район'!G6 -> 0 | H6: ='Аларский район'!H6+АГО!H6+'Байкальское городское поселение'!H6+'Иркутский район'!H6+'Осинский район'!H6+'Город Свирск'!H6+'Город Слюдянка'!H6+'город Тулун'!H6+'Усть-Илимск'!H6+Хомутово!H6+Черемхово!H6+'Черемховский район'!H6+'Город Иркутск '!H6+'Усольский район'!H6 -> 2 | I6: ='Аларский район'!I6+АГО!I6+'Байкальское городское поселение'!I6+'Иркутский район'!I6+'Осинский район'!I6+'Город Свирск'!I6+'Город Слюдянка'!I6+'город Тулун'!I6+'Усть-Илимск'!I6+Хомутово!I6+Черемхово!I6+'Черемховский район'!I6+'Город Иркутск '!I6+'Усольский район'!I6 -> 0
A7: 1.1. | B7: градостроительная политика, обеспечение благоприятной среды жизнедеятельности населения и развитие жилищно-коммунального хозяйства | D7: ='Аларский район'!D7+АГО!D7+'Байкальское городское поселение'!D7+'Иркутский район'!D7+'Осинский район'!D7+'Город Свирск'!D7+'Город Слюдянка'!D7+'город Тулун'!D7+'Усть-Илимск'!D7+Хомутово!D7+Черемхово!D7+'Черемховский район'!D7+'Город Иркутск '!D7+'Усольский район'!D7 -> 0 | E7: ='Аларский район'!E7+АГО!E7+'Байкальское городское поселение'!E7+'Иркутский район'!E7+'Осинский район'!E7+'Город Свирск'!E7+'Город Слюдянка'!E7+'город Тулун'!E7+'Усть-Илимск'!E7+Хомутово!E7+Черемхово!E7+'Черемховский район'!E7+'Город Иркутск '!E7+'Усольский район'!E7 -> 0 | F7: ='Аларский район'!F7+АГО!F7+'Байкальское городское поселение'!F7+'Иркутский район'!F7+'Осинский район'!F7+'Город Свирск'!F7+'Город Слюдянка'!F7+'город Тулун'!F7+'Усть-Илимск'!F7+Хомутово!F7+Черемхово!F7+'Черемховский район'!F7+'Город Иркутск '!F7+'Усольский район'!F7 -> 0 | G7: ='Аларский район'!G7+АГО!G7+'Байкальское городское поселение'!G7+'Иркутский район'!G7+'Осинский район'!G7+'Город Свирск'!G7+'Город Слюдянка'!G7+'город Тулун'!G7+'Усть-Илимск'!G7+Хомутово!G7+Черемхово!G7+'Черемховский район'!G7+'Город Иркутск '!G7+'Усольский район'!G7 -> 0 | H7: ='Аларский район'!H7+АГО!H7+'Байкальское городское поселение'!H7+'Иркутский район'!H7+'Осинский район'!H7+'Город Свирск'!H7+'Город Слюдянка'!H7+'город Тулун'!H7+'Усть-Илимск'!H7+Хомутово!H7+Черемхово!H7+'Черемховский район'!H7+'Город Иркутск '!H7+'Усольский район'!H7 -> 0 | I7: ='Аларский район'!I7+АГО!I7+'Байкальское городское поселение'!I7+'Иркутский район'!I7+'Осинский район'!I7+'Город Свирск'!I7+'Город Слюдянка'!I7+'город Тулун'!I7+'Усть-Илимск'!I7+Хомутово!I7+Черемхово!I7+'Черемховский район'!I7+'Город Иркутск '!I7+'Усольский район'!I7 -> 0
A8: 1.2. | B8: муниципальная экономическая политика и управление муниципальными финансами | C8: 4 | D8: ='Аларский район'!D8+АГО!D8+'Байкальское городское поселение'!D8+'Иркутский район'!D8+'Осинский район'!D8+'Город Свирск'!D8+'Город Слюдянка'!D8+'город Тулун'!D8+'Усть-Илимск'!D8+Хомутово!D8+Черемхово!D8+'Черемховский район'!D8+'Город Иркутск '!D8+'Усольский район'!D8 -> 4 | E8: ='Аларский район'!E8+АГО!E8+'Байкальское городское поселение'!E8+'Иркутский район'!E8+'Осинский район'!E8+'Город Свирск'!E8+'Город Слюдянка'!E8+'город Тулун'!E8+'Усть-Илимск'!E8+Хомутово!E8+Черемхово!E8+'Черемховский район'!E8+'Город Иркутск '!E8+'Усольский район'!E8 -> 0 | F8: ='Аларский район'!F8+АГО!F8+'Байкальское городское поселение'!F8+'Иркутский район'!F8+'Осинский район'!F8+'Город Свирск'!F8+'Город Слюдянка'!F8+'город Тулун'!F8+'Усть-Илимск'!F8+Хомутово!F8+Черемхово!F8+'Черемховский район'!F8+'Город Иркутск '!F8+'Усольский район'!F8 -> 0 | G8: ='Аларский район'!G8+АГО!G8+'Байкальское городское поселение'!G8+'Иркутский район'!G8+'Осинский район'!G8+'Город Свирск'!G8+'Город Слюдянка'!G8+'город Тулун'!G8+'Усть-Илимск'!G8+Хомутово!G8+Черемхово!G8+'Черемховский район'!G8+'Город Иркутск '!G8+'Усольский район'!G8 -> 0 | H8: ='Аларский район'!H8+АГО!H8+'Байкальское городское поселение'!H8+'Иркутский район'!H8+'Осинский район'!H8+'Город Свирск'!H8+'Город Слюдянка'!H8+'город Тулун'!H8+'Усть-Илимск'!H8+Хомутово!H8+Черемхово!H8+'Черемховский район'!H8+'Город Иркутск '!H8+'Усольский район'!H8 -> 0 | I8: ='Аларский район'!I8+АГО!I8+'Байкальское городское поселение'!I8+'Иркутский район'!I8+'Осинский район'!I8+'Город Свирск'!I8+'Город Слюдянка'!I8+'город Тулун'!I8+'Усть-Илимск'!I8+Хомутово!I8+Черемхово!I8+'Черемховский район'!I8+'Город Иркутск '!I8+'Усольский район'!I8 -> 0
A9: 1.3. | B9: обеспечение эффективной "обратной связи" с жителями муниципальных образований, развитие территориального общественного самоуправления и привлечение граждан к осуществлению (участию в осуществлении) местного самоуправления в иных формах | C9: 4 | D9: ='Аларский район'!D9+АГО!D9+'Байкальское городское поселение'!D9+'Иркутский район'!D9+'Осинский район'!D9+'Город Свирск'!D9+'Город Слюдянка'!D9+'город Тулун'!D9+'Усть-Илимск'!D9+Хомутово!D9+Черемхово!D9+'Черемховский район'!D9+'Город Иркутск '!D9+'Усольский район'!D9 -> 2 | E9: ='Аларский район'!E9+АГО!E9+'Байкальское городское поселение'!E9+'Иркутский район'!E9+'Осинский район'!E9+'Город Свирск'!E9+'Город Слюдянка'!E9+'город Тулун'!E9+'Усть-Илимск'!E9+Хомутово!E9+Черемхово!E9+'Черемховский район'!E9+'Город Иркутск '!E9+'Усольский район'!E9 -> 0 | F9: ='Аларский район'!F9+АГО!F9+'Байкальское городское поселение'!F9+'Иркутский район'!F9+'Осинский район'!F9+'Город Свирск'!F9+'Город Слюдянка'!F9+'город Тулун'!F9+'Усть-Илимск'!F9+Хомутово!F9+Черемхово!F9+'Черемховский район'!F9+'Город Иркутск '!F9+'Усольский район'!F9 -> 0 | G9: ='Аларский район'!G9+АГО!G9+'Байкальское городское поселение'!G9+'Иркутский район'!G9+'Осинский район'!G9+'Город Свирск'!G9+'Город Слюдянка'!G9+'город Тулун'!G9+'Усть-Илимск'!G9+Хомутово!G9+Черемхово!G9+'Черемховский район'!G9+'Город Иркутск '!G9+'Усольский район'!G9 -> 0 | H9: ='Аларский район'!H9+АГО!H9+'Байкальское городское поселение'!H9+'Иркутский район'!H9+'Осинский район'!H9+'Город Свирск'!H9+'Город Слюдянка'!H9+'город Тулун'!H9+'Усть-Илимск'!H9+Хомутово!H9+Черемхово!H9+'Черемховский район'!H9+'Город Иркутск '!H9+'Усольский район'!H9 -> 2 | I9: ='Аларский район'!I9+АГО!I9+'Байкальское городское поселение'!I9+'Иркутский район'!I9+'Осинский район'!I9+'Город Свирск'!I9+'Город Слюдянка'!I9+'город Тулун'!I9+'Усть-Илимск'!I9+Хомутово!I9+Черемхово!I9+'Черемховский район'!I9+'Город Иркутск '!I9+'Усольский район'!I9 -> 0
A10: 1.4. | B10: укрепление межнационального мира и согласия, реализация иных мероприятий в сфере национальной политики на муниципальном уровне | C10: 3 | D10: ='Аларский район'!D10+АГО!D10+'Байкальское городское поселение'!D10+'Иркутский район'!D10+'Осинский район'!D10+'Город Свирск'!D10+'Город Слюдянка'!D10+'город Тулун'!D10+'Усть-Илимск'!D10+Хомутово!D10+Черемхово!D10+'Черемховский район'!D10+'Город Иркутск '!D10+'Усольский район'!D10 -> 1 | E10: ='Аларский район'!E10+АГО!E10+'Байкальское городское поселение'!E10+'Иркутский район'!E10+'Осинский район'!E10+'Город Свирск'!E10+'Город Слюдянка'!E10+'город Тулун'!E10+'Усть-Илимск'!E10+Хомутово!E10+Черемхово!E10+'Черемховский район'!E10+'Город Иркутск '!E10+'Усольский район'!E10 -> 0 | F10: ='Аларский район'!F10+АГО!F10+'Байкальское городское поселение'!F10+'Иркутский район'!F10+'Осинский район'!F10+'Город Свирск'!F10+'Город Слюдянка'!F10+'город Тулун'!F10+'Усть-Илимск'!F10+Хомутово!F10+Черемхово!F10+'Черемховский район'!F10+'Город Иркутск '!F10+'Усольский район'!F10 -> 0 | G10: ='Аларский район'!G10+АГО!G10+'Байкальское городское поселение'!G10+'Иркутский район'!G10+'Осинский район'!G10+'Город Свирск'!G10+'Город Слюдянка'!G10+'город Тулун'!G10+'Усть-Илимск'!G10+Хомутово!G10+Черемхово!G10+'Черемховский район'!G10+'Город Иркутск '!G10+'Усольский район'!G10 -> 0 | H10: ='Аларский район'!H10+АГО!H10+'Байкальское городское поселение'!H10+'Иркутский район'!H10+'Осинский район'!H10+'Город Свирск'!H10+'Город Слюдянка'!H10+'город Тулун'!H10+'Усть-Илимск'!H10+Хомутово!H10+Черемхово!H10+'Черемховский район'!H10+'Город Иркутск '!H10+'Усольский район'!H10 -> 2 | I10: ='Аларский район'!I10+АГО!I10+'Байкальское городское поселение'!I10+'Иркутский район'!I10+'Осинский район'!I10+'Город Свирск'!I10+'Город Слюдянка'!I10+'город Тулун'!I10+'Усть-Илимск'!I10+Хомутово!I10+Черемхово!I10+'Черемховский район'!I10+'Город Иркутск '!I10+'Усольский район'!I10 -> 0
A11: 1.5. | B11: модернизация городского хозяйства посредством внедрения цифровых технологий и платформенных решений ("умный город") . | D11: ='Аларский район'!D11+АГО!D11+'Байкальское городское поселение'!D11+'Иркутский район'!D11+'Осинский район'!D11+'Город Свирск'!D11+'Город Слюдянка'!D11+'город Тулун'!D11+'Усть-Илимск'!D11+Хомутово!D11+Черемхово!D11+'Черемховский район'!D11+'Город Иркутск '!D11+'Усольский район'!D11 -> 0 | E11: ='Аларский район'!E11+АГО!E11+'Байкальское городское поселение'!E11+'Иркутский район'!E11+'Осинский район'!E11+'Город Свирск'!E11+'Город Слюдянка'!E11+'город Тулун'!E11+'Усть-Илимск'!E11+Хомутово!E11+Черемхово!E11+'Черемховский район'!E11+'Город Иркутск '!E11+'Усольский район'!E11 -> 0 | F11: ='Аларский район'!F11+АГО!F11+'Байкальское городское поселение'!F11+'Иркутский район'!F11+'Осинский район'!F11+'Город Свирск'!F11+'Город Слюдянка'!F11+'город Тулун'!F11+'Усть-Илимск'!F11+Хомутово!F11+Черемхово!F11+'Черемховский район'!F11+'Город Иркутск '!F11+'Усольский район'!F11 -> 0 | G11: ='Аларский район'!G11+АГО!G11+'Байкальское городское поселение'!G11+'Иркутский район'!G11+'Осинский район'!G11+'Город Свирск'!G11+'Город Слюдянка'!G11+'город Тулун'!G11+'Усть-Илимск'!G11+Хомутово!G11+Черемхово!G11+'Черемховский район'!G11+'Город Иркутск '!G11+'Усольский район'!G11 -> 0 | H11: ='Аларский район'!H11+АГО!H11+'Байкальское городское поселение'!H11+'Иркутский район'!H11+'Осинский район'!H11+'Город Свирск'!H11+'Город Слюдянка'!H11+'город Тулун'!H11+'Усть-Илимск'!H11+Хомутово!H11+Черемхово!H11+'Черемховский район'!H11+'Город Иркутск '!H11+'Усольский район'!H11 -> 0 | I11: ='Аларский район'!I11+АГО!I11+'Байкальское городское поселение'!I11+'Иркутский район'!I11+'Осинский район'!I11+'Город Свирск'!I11+'Город Слюдянка'!I11+'город Тулун'!I11+'Усть-Илимск'!I11+Хомутово!I11+Черемхово!I11+'Черемховский район'!I11+'Город Иркутск '!I11+'Усольский район'!I11 -> 0
A12: 2 | B12: Всероссийский конкурс проектов инициативного бюджетирования | C12: 3 | D12: ='Аларский район'!D12+АГО!D12+'Байкальское городское поселение'!D12+'Иркутский район'!D12+'Осинский район'!D12+'Город Свирск'!D12+'Город Слюдянка'!D12+'город Тулун'!D12+'Усть-Илимск'!D12+Хомутово!D12+Черемхово!D12+'Черемховский район'!D12+'Город Иркутск '!D12+'Усольский район'!D12 -> 0 | E12: ='Аларский район'!E12+АГО!E12+'Байкальское городское поселение'!E12+'Иркутский район'!E12+'Осинский район'!E12+'Город Свирск'!E12+'Город Слюдянка'!E12+'город Тулун'!E12+'Усть-Илимск'!E12+Хомутово!E12+Черемхово!E12+'Черемховский район'!E12+'Город Иркутск '!E12+'Усольский район'!E12 -> 0 | F12: ='Аларский район'!F12+АГО!F12+'Байкальское городское поселение'!F12+'Иркутский район'!F12+'Осинский район'!F12+'Город Свирск'!F12+'Город Слюдянка'!F12+'город Тулун'!F12+'Усть-Илимск'!F12+Хомутово!F12+Черемхово!F12+'Черемховский район'!F12+'Город Иркутск '!F12+'Усольский район'!F12 -> 0 | G12: ='Аларский район'!G12+АГО!G12+'Байкальское городское поселение'!G12+'Иркутский район'!G12+'Осинский район'!G12+'Город Свирск'!G12+'Город Слюдянка'!G12+'город Тулун'!G12+'Усть-Илимск'!G12+Хомутово!G12+Черемхово!G12+'Черемховский район'!G12+'Город Иркутск '!G12+'Усольский район'!G12 -> 1 | H12: ='Аларский район'!H12+АГО!H12+'Байкальское городское поселение'!H12+'Иркутский район'!H12+'Осинский район'!H12+'Город Свирск'!H12+'Город Слюдянка'!H12+'город Тулун'!H12+'Усть-Илимск'!H12+Хомутово!H12+Черемхово!H12+'Черемховский район'!H12+'Город Иркутск '!H12+'Усольский район'!H12 -> 2 | I12: ='Аларский район'!I12+АГО!I12+'Байкальское городское поселение'!I12+'Иркутский район'!I12+'Осинский район'!I12+'Город Свирск'!I12+'Город Слюдянка'!I12+'город Тулун'!I12+'Усть-Илимск'!I12+Хомутово!I12+Черемхово!I12+'Черемховский район'!I12+'Город Иркутск '!I12+'Усольский район'!I12 -> 0
A13: 3 | B13: Всероссийский конкурс лучших проектов создания комфортной городской среды, по следующим категориям: | C13: 2 | D13: ='Аларский район'!D13+АГО!D13+'Байкальское городское поселение'!D13+'Иркутский район'!D13+'Осинский район'!D13+'Город Свирск'!D13+'Город Слюдянка'!D13+'город Тулун'!D13+'Усть-Илимск'!D13+Хомутово!D13+Черемхово!D13+'Черемховский район'!D13+'Город Иркутск '!D13+'Усольский район'!D13 -> 2 | E13: ='Аларский район'!E13+АГО!E13+'Байкальское городское поселение'!E13+'Иркутский район'!E13+'Осинский район'!E13+'Город Свирск'!E13+'Город Слюдянка'!E13+'город Тулун'!E13+'Усть-Илимск'!E13+Хомутово!E13+Черемхово!E13+'Черемховский район'!E13+'Город Иркутск '!E13+'Усольский район'!E13 -> 0 | F13: ='Аларский район'!F13+АГО!F13+'Байкальское городское поселение'!F13+'Иркутский район'!F13+'Осинский район'!F13+'Город Свирск'!F13+'Город Слюдянка'!F13+'город Тулун'!F13+'Усть-Илимск'!F13+Хомутово!F13+Черемхово!F13+'Черемховский район'!F13+'Город Иркутск '!F13+'Усольский район'!F13 -> 0 | G13: ='Аларский район'!G13+АГО!G13+'Байкальское городское поселение'!G13+'Иркутский район'!G13+'Осинский район'!G13+'Город Свирск'!G13+'Город Слюдянка'!G13+'город Тулун'!G13+'Усть-Илимск'!G13+Хомутово!G13+Черемхово!G13+'Черемховский район'!G13+'Город Иркутск '!G13+'Усольский район'!G13 -> 0 | H13: ='Аларский район'!H13+АГО!H13+'Байкальское городское поселение'!H13+'Иркутский район'!H13+'Осинский район'!H13+'Город Свирск'!H13+'Город Слюдянка'!H13+'город Тулун'!H13+'Усть-Илимск'!H13+Хомутово!H13+Черемхово!H13+'Черемховский район'!H13+'Город Иркутск '!H13+'Усольский район'!H13 -> 0 | I13: ='Аларский район'!I13+АГО!I13+'Байкальское городское поселение'!I13+'Иркутский район'!I13+'Осинский район'!I13+'Город Свирск'!I13+'Город Слюдянка'!I13+'город Тулун'!I13+'Усть-Илимск'!I13+Хомутово!I13+Черемхово!I13+'Черемховский район'!I13+'Город Иркутск '!I13+'Усольский район'!I13 -> 0
A14: 3.1. | B14: исторические поселения | C14: 1 | D14: ='Аларский район'!D14+АГО!D14+'Байкальское городское поселение'!D14+'Иркутский район'!D14+'Осинский район'!D14+'Город Свирск'!D14+'Город Слюдянка'!D14+'город Тулун'!D14+'Усть-Илимск'!D14+Хомутово!D14+Черемхово!D14+'Черемховский район'!D14+'Город Иркутск '!D14+'Усольский район'!D14 -> 1 | E14: ='Аларский район'!E14+АГО!E14+'Байкальское городское поселение'!E14+'Иркутский район'!E14+'Осинский район'!E14+'Город Свирск'!E14+'Город Слюдянка'!E14+'город Тулун'!E14+'Усть-Илимск'!E14+Хомутово!E14+Черемхово!E14+'Черемховский район'!E14+'Город Иркутск '!E14+'Усольский район'!E14 -> 0 | F14: ='Аларский район'!F14+АГО!F14+'Байкальское городское поселение'!F14+'Иркутский район'!F14+'Осинский район'!F14+'Город Свирск'!F14+'Город Слюдянка'!F14+'город Тулун'!F14+'Усть-Илимск'!F14+Хомутово!F14+Черемхово!F14+'Черемховский район'!F14+'Город Иркутск '!F14+'Усольский район'!F14 -> 0 | G14: ='Аларский район'!G14+АГО!G14+'Байкальское городское поселение'!G14+'Иркутский район'!G14+'Осинский район'!G14+'Город Свирск'!G14+'Город Слюдянка'!G14+'город Тулун'!G14+'Усть-Илимск'!G14+Хомутово!G14+Черемхово!G14+'Черемховский район'!G14+'Город Иркутск '!G14+'Усольский район'!G14 -> 0 | H14: ='Аларский район'!H14+АГО!H14+'Байкальское городское поселение'!H14+'Иркутский район'!H14+'Осинский район'!H14+'Город Свирск'!H14+'Город Слюдянка'!H14+'город Тулун'!H14+'Усть-Илимск'!H14+Хомутово!H14+Черемхово!H14+'Черемховский район'!H14+'Город Иркутск '!H14+'Усольский район'!H14 -> 0 | I14: ='Аларский район'!I14+АГО!I14+'Байкальское городское поселение'!I14+'Иркутский район'!I14+'Осинский район'!I14+'Город Свирск'!I14+'Город Слюдянка'!I14+'город Тулун'!I14+'Усть-Илимск'!I14+Хомутово!I14+Черемхово!I14+'Черемховский район'!I14+'Город Иркутск '!I14+'Усольский район'!I14 -> 0
A15: 3.2. | B15: малые города | C15: 5 | D15: ='Аларский район'!D15+АГО!D15+'Байкальское городское поселение'!D15+'Иркутский район'!D15+'Осинский район'!D15+'Город Свирск'!D15+'Город Слюдянка'!D15+'город Тулун'!D15+'Усть-Илимск'!D15+Хомутово!D15+Черемхово!D15+'Черемховский район'!D15+'Город Иркутск '!D15+'Усольский район'!D15 -> 4 | E15: ='Аларский район'!E15+АГО!E15+'Байкальское городское поселение'!E15+'Иркутский район'!E15+'Осинский район'!E15+'Город Свирск'!E15+'Город Слюдянка'!E15+'город Тулун'!E15+'Усть-Илимск'!E15+Хомутово!E15+Черемхово!E15+'Черемховский район'!E15+'Город Иркутск '!E15+'Усольский район'!E15 -> 0 | F15: ='Аларский район'!F15+АГО!F15+'Байкальское городское поселение'!F15+'Иркутский район'!F15+'Осинский район'!F15+'Город Свирск'!F15+'Город Слюдянка'!F15+'город Тулун'!F15+'Усть-Илимск'!F15+Хомутово!F15+Черемхово!F15+'Черемховский район'!F15+'Город Иркутск '!F15+'Усольский район'!F15 -> 0 | G15: ='Аларский район'!G15+АГО!G15+'Байкальское городское поселение'!G15+'Иркутский район'!G15+'Осинский район'!G15+'Город Свирск'!G15+'Город Слюдянка'!G15+'город Тулун'!G15+'Усть-Илимск'!G15+Хомутово!G15+Черемхово!G15+'Черемховский район'!G15+'Город Иркутск '!G15+'Усольский район'!G15 -> 1 | H15: ='Аларский район'!H15+АГО!H15+'Байкальское городское поселение'!H15+'Иркутский район'!H15+'Осинский район'!H15+'Город Свирск'!H15+'Город Слюдянка'!H15+'город Тулун'!H15+'Усть-Илимск'!H15+Хомутово!H15+Черемхово!H15+'Черемховский район'!H15+'Город Иркутск '!H15+'Усольский район'!H15 -> 0 | I15: ='Аларский район'!I15+АГО!I15+'Байкальское городское поселение'!I15+'Иркутский район'!I15+'Осинский район'!I15+'Город Свирск'!I15+'Город Слюдянка'!I15+'город Тулун'!I15+'Усть-Илимск'!I15+Хомутово!I15+Черемхово!I15+'Черемховский район'!I15+'Город Иркутск '!I15+'Усольский район'!I15 -> 0
A16: 4 | B16: Иные федеральные конкурсы (указать) | C16: 20 | D16: ='Аларский район'!D16+АГО!D16+'Байкальское городское поселение'!D16+'Иркутский район'!D16+'Осинский район'!D16+'Город Свирск'!D16+'Город Слюдянка'!D16+'город Тулун'!D16+'Усть-Илимск'!D16+Хомутово!D16+Черемхово!D16+'Черемховский район'!D16+'Город Иркутск '!D16+'Усольский район'!D16 -> 13 | E16: ='Аларский район'!E16+АГО!E16+'Байкальское городское поселение'!E16+'Иркутский район'!E16+'Осинский район'!E16+'Город Свирск'!E16+'Город Слюдянка'!E16+'город Тулун'!E16+'Усть-Илимск'!E16+Хомутово!E16+Черемхово!E16+'Черемховский район'!E16+'Город Иркутск '!E16+'Усольский район'!E16 -> 0 | F16: ='Аларский район'!F16+АГО!F16+'Байкальское городское поселение'!F16+'Иркутский район'!F16+'Осинский район'!F16+'Город Свирск'!F16+'Город Слюдянка'!F16+'город Тулун'!F16+'Усть-Илимск'!F16+Хомутово!F16+Черемхово!F16+'Черемховский район'!F16+'Город Иркутск '!F16+'Усольский район'!F16 -> 3 | G16: ='Аларский район'!G16+АГО!G16+'Байкальское городское поселение'!G16+'Иркутский район'!G16+'Осинский район'!G16+'Город Свирск'!G16+'Город Слюдянка'!G16+'город Тулун'!G16+'Усть-Илимск'!G16+Хомутово!G16+Черемхово!G16+'Черемховский район'!G16+'Город Иркутск '!G16+'Усольский район'!G16 -> 0 | H16: ='Аларский район'!H16+АГО!H16+'Байкальское городское поселение'!H16+'Иркутский район'!H16+'Осинский район'!H16+'Город Свирск'!H16+'Город Слюдянка'!H16+'город Тулун'!H16+'Усть-Илимск'!H16+Хомутово!H16+Черемхово!H16+'Черемховский район'!H16+'Город Иркутск '!H16+'Усольский район'!H16 -> 4 | I16: ='Аларский район'!I16+АГО!I16+'Байкальское городское поселение'!I16+'Иркутский район'!I16+'Осинский район'!I16+'Город Свирск'!I16+'Город Слюдянка'!I16+'город Тулун'!I16+'Усть-Илимск'!I16+Хомутово!I16+Черемхово!I16+'Черемховский район'!I16+'Город Иркутск '!I16+'Усольский район'!I16 -> 0

Sheet Аларский район
A1: Аларский Район Таблица 4
A3: № | B3: Наименование конкурса | C3: Количество муниципальных образований, принявших участие в конкурсе в 2024 году, ед.
C4: всего | D4: в том числе:
D5: городские округа | E5: муниципальные округа | F5: муниципальные районы | G5: городские поселения | H5: сельские поселения | I5: внутригородские муниципальные образования городов федерального значения
A6: 1. | B6: Всероссийский конкурс "Лучшая муниципальная практика", в номинациях: | C6: 1 | H6: 1
A7: 1.1. | B7: градостроительная политика, обеспечение благоприятной среды жизнедеятельности населения и развитие жилищно-коммунального хозяйства
A8: 1.2. | B8: муниципальная экономическая политика и управление муниципальными финансами
A9: 1.3. | B9: обеспечение эффективной "обратной связи" с жителями муниципальных образований, развитие территориального общественного самоуправления и привлечение граждан к осуществлению (участию в осуществлении) местного самоуправления в иных формах | C9: 2 | H9: 2
A10: 1.4. | B10: укрепление межнационального мира и согласия, реализация иных мероприятий в сфере национальной политики на муниципальном уровне
A11: 1.5. | B11: модернизация городского хозяйства посредством внедрения цифровых технологий и платформенных решений ("умный город") .
A12: 2 | B12: Всероссийский конкурс проектов инициативного бюджетирования | C12: 2 | H12: 2
A13: 3 | B13: Всероссийский конкурс лучших проектов создания комфортной городской среды, по следующим категориям:
A14: 3.1. | B14: исторические поселения
A15: 3.2. | B15: малые города
A16: 4 | B16: Иные федеральные конкурсы (указать)

Sheet АГО
A1: Ангарский городской округ Таблица 4
A3: № | B3: Наименование конкурса | C3: Количество муниципальных образований, принявших участие в конкурсе в 2024 году, ед.
C4: всего | D4: в том числе:
D5: городские округа | E5: муниципальные округа | F5: муниципальные районы | G5: городские поселения | H5: сельские поселения | I5: внутригородские муниципальные образования городов федерального значения
A6: 1. | B6: Всероссийский конкурс "Лучшая муниципальная практика", в номинациях:
A7: 1.1. | B7: градостроительная политика, обеспечение благоприятной среды жизнедеятельности населения и развитие жилищно-коммунального хозяйства
A8: 1.2. | B8: муниципальная экономическая политика и управление муниципальными финансами | C8: 1 | D8: 1
A9: 1.3. | B9: обеспечение эффективной "обратной связи" с жителями муниципальных образований, развитие территориального общественного самоуправления и привлечение граждан к осуществлению (участию в осуществлении) местного самоуправления в иных формах | C9: 1 | D9: 1
A10: 1.4. | B10: укрепление межнационального мира и согласия, реализация иных мероприятий в сфере национальной политики на муниципальном уровне | C10: 1 | D10: 1
A11: 1.5. | B11: модернизация городского хозяйства посредством внедрения цифровых технологий и платформенных решений ("умный город") .
A12: 2 | B12: Всероссийский конкурс проектов инициативного бюджетирования
A13: 3 | B13: Всероссийский конкурс лучших проектов создания комфортной городской среды, по следующим категориям:
A14: 3.1. | B14: исторические поселения
A15: 3.2. | B15: малые города
A16: 4 | B16: Иные федеральные конкурсы (указать)

Sheet Байкальское городское поселение
A1: Байкальское городское поселение Таблица 4
A3: № | B3: Наименование конкурса | C3: Количество муниципальных образований, принявших участие в конкурсе в 2024 году, ед.
C4: всего | D4: в том числе:
D5: городские округа | E5: муниципальные округа | F5: муниципальные районы | G5: городские поселения | H5: сельские поселения | I5: внутригородские муниципальные образования городов федерального значения
A6: 1. | B6: Всероссийский конкурс "Лучшая муниципальная практика", в номинациях:
A7: 1.1. | B7: градостроительная политика, обеспечение благоприятной среды жизнедеятельности населения и развитие жилищно-коммунального хозяйства
A8: 1.2. | B8: муниципальная экономическая политика и управление муниципальными финансами
A9: 1.3. | B9: обеспечение эффективной "обратной связи" с жителями муниципальных образований, развитие территориального общественного самоуправления и привлечение граждан к осуществлению (участию в осуществлении) местного самоуправления в иных формах
A10: 1.4. | B10: укрепление межнационального мира и согласия, реализация иных мероприятий в сфере национальной политики на муниципальном уровне
A11: 1.5. | B11: модернизация городского хозяйства посредством внедрения цифровых технологий и платформенных решений ("умный город") .
A12: 2 | B12: Всероссийский конкурс проектов инициативного бюджетирования
A13: 3 | B13: Всероссийский конкурс лучших проектов создания комфортной городской среды, по следующим категориям:
A14: 3.1. | B14: исторические поселения
A15: 3.2. | B15: малые города | C15: 1 | G15: 1
A16: 4 | B16: Иные федеральные конкурсы (указать)

Sheet Иркутский район
B1: Иркутский район
A3: № | B3: Наименование конкурса | C3: Количество муниципальных образований, принявших участие в конкурсе в 2024 году, ед.
C4: всего | D4: в том числе:
D5: городские округа | E5: муниципальные округа | F5: муниципальные районы | G5: городские поселения | H5: сельские поселения | I5: внутригородские муниципальные образования городов федерального значения
A6: 1. | B6: Всероссийский конкурс "Лучшая муниципальная практика", в номинациях:
A7: 1.1. | B7: градостроительная политика, обеспечение благоприятной среды жизнедеятельности населения и развитие жилищно-коммунального хозяйства
A8: 1.2. | B8: муниципальная экономическая политика и управление муниципальными финансами
A9: 1.3. | B9: обеспечение эффективной "обратной связи" с жителями муниципальных образований, развитие территориального общественного самоуправления и привлечение граждан к осуществлению (участию в осуществлении) местного самоуправления в иных формах
A10: 1.4. | B10: укрепление межнационального мира и согласия, реализация иных мероприятий в сфере национальной политики на муниципальном уровне
A11: 1.5. | B11: модернизация городского хозяйства посредством внедрения цифровых технологий и платформенных решений ("умный город") .
A12: 2 | B12: Всероссийский конкурс проектов инициативного бюджетирования
A13: 3 | B13: Всероссийский конкурс лучших проектов создания комфортной городской среды, по следующим категориям:
A14: 3.1. | B14: исторические поселения
A15: 3.2. | B15: малые города
A16: 4 | B16: Иные федеральные конкурсы (указать) | F16: 1
B17: С 23 мая по 6 июня 2024 года агентством по туризму Иркутской области был проведен конкурсный отбор на предоставление субсидий муниципальным образованиям на поддержку и продвижение событийных мероприятий (общая сумма субсидии составила 15,62 млн. рублей). Конкурс проводился в рамках реализации мероприятий национального пректа "Туризм и индустрия гостеприимства". Всего в конкурсе на поддержку и продвижение событийных мероприятий участвовало 8 муниципальных образований: г. Свирск, г. Ангарск, г. Черемхово, Иркутский р-н, Братский р-н, г. Иркутск, г. Усолье-Сибирское, муниципальное образование «Усть-Ордынское». Победителями отбора стали: г. Свирск (5 млн. руб.), Ангарский городской округ (5,6 млн. руб.), г. Черемхово (4,5 млн. руб.), Иркутское районное муниципальное образование (454,9 тыс. руб.). Наименование проекта Иркутского района - Международный белорусский фестиваль «Багач». Цели проекта: 1. Развитие международного сотрудничества в сфере культурно-познавательного туризма как инструмента сохранения единого культурного пространства России и Беларуси. 2. Содействие формированию в общественном сознании общности русской и белорусской культур как двух ветвей единого исторически сложившегося духовного и культурного начала. Задачи проекта: 1. Содействие популяризации духовного и историко-культурного наследия России и Беларуси. 2. Расширение культурных связей и партнерских отношений между Иркутским районом - Малоритским районом Брестской области Республики Беларусь. 3. Приобщение жителей Иркутской области к культурному наследию, традициям народной жизни, духовным и нравственным ценностям. | F17: 1 (Иркутский район)

Sheet Осинский район
A1: Осинский район Таблица 4
A3: № | B3: Наименование конкурса | C3: Количество муниципальных образований, принявших участие в конкурсе в 2024 году, ед.
C4: всего | D4: в том числе:
D5: городские округа | E5: муниципальные округа | F5: муниципальные районы | G5: городские поселения | H5: сельские поселения | I5: внутригородские муниципальные образования городов федерального значения
A6: 1. | B6: Всероссийский конкурс "Лучшая муниципальная практика", в номинациях:
A7: 1.1. | B7: градостроительная политика, обеспечение благоприятной среды жизнедеятельности населения и развитие жилищно-коммунального хозяйства
A8: 1.2. | B8: муниципальная экономическая политика и управление муниципальными финансами
A9: 1.3. | B9: обеспечение эффективной "обратной связи" с жителями муниципальных образований, развитие территориального общественного самоуправления и привлечение граждан к осуществлению (участию в осуществлении) местного самоуправления в иных формах
A10: 1.4. | B10: укрепление межнационального мира и согласия, реализация иных мероприятий в сфере национальной политики на муниципальном уровне
A11: 1.5. | B11: модернизация городского хозяйства посредством внедрения цифровых технологий и платформенных решений ("умный город") .
A12: 2 | B12: Всероссийский конкурс проектов инициативного бюджетирования
A13: 3 | B13: Всероссийский конкурс лучших проектов создания комфортной городской среды, по следующим категориям:
A14: 3.1. | B14: исторические поселения
A15: 3.2. | B15: малые города
A16: 4 | B16: Иные федеральные конкурсы (указать) | F16: 2
A17: 4.1. | B17: На создание модельных муниципальных библиотек в целях реализации национального проекта культура | F17: 1
A18: 4.2. | B18: Модернизация школьных систем образования | F18: 1

Sheet Город Свирск
A1: Город Свирск Таблица 4
A3: № | B3: Наименование конкурса | C3: Количество муниципальных образований, принявших участие в конкурсе в 2024 году, ед.
C4: всего | D4: в том числе:
D5: городские округа | E5: муниципальные округа | F5: муниципальные районы | G5: городские поселения | H5: сельские поселения | I5: внутригородские муниципальные образования городов федерального значения
A6: 1. | B6: Всероссийский конкурс "Лучшая муниципальная практика", в номинациях:
A7: 1.1. | B7: градостроительная политика, обеспечение благоприятной среды жизнедеятельности населения и развитие жилищно-коммунального хозяйства
A8: 1.2. | B8: муниципальная экономическая политика и управление муниципальными финансами | C8: 1 | D8: 1
A9: 1.3. | B9: обеспечение эффективной "обратной связи" с жителями муниципальных образований, развитие территориального общественного самоуправления и привлечение граждан к осуществлению (участию в осуществлении) местного самоуправления в иных формах
A10: 1.4. | B10: укрепление межнационального мира и согласия, реализация иных мероприятий в сфере национальной политики на муниципальном уровне
A11: 1.5. | B11: модернизация городского хозяйства посредством внедрения цифровых технологий и платформенных решений ("умный город") .
A12: 2 | B12: Всероссийский конкурс проектов инициативного бюджетирования
A13: 3 | B13: Всероссийский конкурс лучших проектов создания комфортной городской среды, по следующим категориям: | C13: 1 | D13: 1
A14: 3.1. | B14: исторические поселения
A15: 3.2. | B15: малые города | C15: 1 | D15: 1
A16: 4 | B16: Иные федеральные конкурсы (указать)

Sheet Город Слюдянка
A1: Город Слюдянка Таблица 4
A3: № | B3: Наименование конкурса | C3: Количество муниципальных образований, принявших участие в конкурсе в 2024 году, ед.
C4: всего | D4: в том числе:
D5: городские округа | E5: муниципальные округа | F5: муниципальные районы | G5: городские поселения | H5: сельские поселения | I5: внутригородские муниципальные образования городов федерального значения
A6: 1. | B6: Всероссийский конкурс "Лучшая муниципальная практика", в номинациях:
A7: 1.1. | B7: градостроительная политика, обеспечение благоприятной среды жизнедеятельности населения и развитие жилищно-коммунального хозяйства
A8: 1.2. | B8: муниципальная экономическая политика и управление муниципальными финансами
A9: 1.3. | B9: обеспечение эффективной "обратной связи" с жителями муниципальных образований, развитие территориального общественного самоуправления и привлечение граждан к осуществлению (участию в осуществлении) местного самоуправления в иных формах
A10: 1.4. | B10: укрепление межнационального мира и согласия, реализация иных мероприятий в сфере национальной политики на муниципальном уровне
A11: 1.5. | B11: модернизация городского хозяйства посредством внедрения цифровых технологий и платформенных решений ("умный город") .
A12: 2 | B12: Всероссийский конкурс проектов инициативного бюджетирования | C12: 1 | G12: 1
A13: 3 | B13: Всероссийский конкурс лучших проектов создания комфортной городской среды, по следующим категориям:
A14: 3.1. | B14: исторические поселения
A15: 3.2. | B15: малые города
A16: 4 | B16: Иные федеральные конкурсы (указать)

Sheet город Тулун
A1: Город Тулун Таблица 4
A3: № | B3: Наименование конкурса | C3: Количество муниципальных образований, принявших участие в конкурсе в 2024 году, ед.
C4: всего | D4: в том числе:
D5: городские округа | E5: муниципальные округа | F5: муниципальные районы | G5: городские поселения | H5: сельские поселения | I5: внутригородские муниципальные образования городов федерального значения
A6: 1. | B6: Всероссийский конкурс "Лучшая муниципальная практика", в номинациях:
A7: 1.1. | B7: градостроительная политика, обеспечение благоприятной среды жизнедеятельности населения и развитие жилищно-коммунального хозяйства
A8: 1.2. | B8: муниципальная экономическая политика и управление муниципальными финансами
A9: 1.3. | B9: обеспечение эффективной "обратной связи" с жителями муниципальных образований, развитие территориального общественного самоуправления и привлечение граждан к осуществлению (участию в осуществлении) местного самоуправления в иных формах
A10: 1.4. | B10: укрепление межнационального мира и согласия, реализация иных мероприятий в сфере национальной политики на муниципальном уровне
A11: 1.5. | B11: модернизация городского хозяйства посредством внедрения цифровых технологий и платформенных решений ("умный город") .
A12: 2 | B12: Всероссийский конкурс проектов инициативного бюджетирования
A13: 3 | B13: Всероссийский конкурс лучших проектов создания комфортной городской среды, по следующим категориям:
A14: 3.1. | B14: исторические поселения
A15: 3.2. | B15: малые города | D15: 1
A16: 4 | B16: Иные федеральные конкурсы (указать)

Sheet Усть-Илимск
A1: Город Усть-Илимск Таблица 4
A3: № | B3: Наименование конкурса | C3: Количество муниципальных образований, принявших участие в конкурсе в 2024 году, ед.
C4: всего | D4: в том числе:
D5: городские округа | E5: муниципальные округа | F5: муниципальные районы | G5: городские поселения | H5: сельские поселения | I5: внутригородские муниципальные образования городов федерального значения
A6: 1. | B6: Всероссийский конкурс "Лучшая муниципальная практика", в номинациях:
A7: 1.1. | B7: градостроительная политика, обеспечение благоприятной среды жизнедеятельности населения и развитие жилищно-коммунального хозяйства
A8: 1.2. | B8: муниципальная экономическая политика и управление муниципальными финансами
A9: 1.3. | B9: обеспечение эффективной "обратной связи" с жителями муниципальных образований, развитие территориального общественного самоуправления и привлечение граждан к осуществлению (участию в осуществлении) местного самоуправления в иных формах
A10: 1.4. | B10: укрепление межнационального мира и согласия, реализация иных мероприятий в сфере национальной политики на муниципальном уровне
A11: 1.5. | B11: модернизация городского хозяйства посредством внедрения цифровых технологий и платформенных решений ("умный город") .
A12: 2 | B12: Всероссийский конкурс проектов инициативного бюджетирования
A13: 3 | B13: Всероссийский конкурс лучших проектов создания комфортной городской среды, по следующим категориям:
A14: 3.1. | B14: исторические поселения | D14: 1
A15: 3.2. | B15: малые города | D15: 1
A16: 4 | B16: Иные федеральные конкурсы (указать) Всероссийский конкурс "Въездные стелы муниципальных образований и входные группы общественных пространств" | D16: 1

Sheet Хомутово
A1: Поселок Хомутово Таблица 4
A3: № | B3: Наименование конкурса | C3: Количество муниципальных образований, принявших участие в конкурсе в 2024 году, ед.
C4: всего | D4: в том числе:
D5: городские округа | E5: муниципальные округа | F5: муниципальные районы | G5: городские поселения | H5: сельские поселения | I5: внутригородские муниципальные образования городов федерального значения
A6: 1. | B6: Всероссийский конкурс "Лучшая муниципальная практика", в номинациях:
A7: 1.1. | B7: градостроительная политика, обеспечение благоприятной среды жизнедеятельности населения и развитие жилищно-коммунального хозяйства
A8: 1.2. | B8: муниципальная экономическая политика и управление муниципальными финансами
A9: 1.3. | B9: обеспечение эффективной "обратной связи" с жителями муниципальных образований, развитие территориального общественного самоуправления и привлечение граждан к осуществлению (участию в осуществлении) местного самоуправления в иных формах
A10: 1.4. | B10: укрепление межнационального мира и согласия, реализация иных мероприятий в сфере национальной политики на муниципальном уровне | H10: 1
A11: 1.5. | B11: модернизация городского хозяйства посредством внедрения цифровых технологий и платформенных решений ("умный город") .
A12: 2 | B12: Всероссийский конкурс проектов инициативного бюджетирования
A13: 3 | B13: Всероссийский конкурс лучших проектов создания комфортной городской среды, по следующим категориям:
A14: 3.1. | B14: исторические поселения
A15: 3.2. | B15: малые города
A16: 4 | B16: Иные федеральные конкурсы (указать) | H16: 3
A17: 4.1. | B17: конкурс видеороликов о результатах реализации проектов по благоустройству общественных пространств на сельских территориях в рамках федерального проекта «Благоустройство сельских территорий» государственной программы Российской Федерации «Комплексное развитие сельских территорий» | H17: 1
A18: 4.2. | B18: Ежегодный конкурс объектов социальной инфраструктуры, деятельность которых направлена на сохранение и укрепление российских духовно-нравственных ценностей «МАРТ» | H18: 1
A19: 4.3. | B19: Ежегодный конкурс по отбору лучших практик (проектов) по благоустройству, реализованных в субъектах Российской Федерации | H19: 1

Sheet Черемхово
A1: ГОРОД ЧЕРЕМХОВО Приложение № 4 к письму от 30.01.2025 № 01-222
A3: № | B3: Наименование конкурса | C3: Количество муниципальных образований, принявших участие в конкурсе в 2024 году, ед.
C4: всего | D4: в том числе:
D5: городские округа | E5: муниципальные округа | F5: муниципальные районы | G5: городские поселения | H5: сельские поселения | I5: внутригородские муниципальные образования городов федерального значения
A6: 1. | B6: Всероссийский конкурс "Лучшая муниципальная практика", в номинациях:
A7: 1.1. | B7: градостроительная политика, обеспечение благоприятной среды жизнедеятельности населения и развитие жилищно-коммунального хозяйства | C7: 0 | D7: 0
A8: 1.2. | B8: муниципальная экономическая политика и управление муниципальными финансами | C8: 1 | D8: 1
A9: 1.3. | B9: обеспечение эффективной "обратной связи" с жителями муниципальных образований, развитие территориального общественного самоуправления и привлечение граждан к осуществлению (участию в осуществлении) местного самоуправления в иных формах | C9: 0 | D9: 0
A10: 1.4. | B10: укрепление межнационального мира и согласия, реализация иных мероприятий в сфере национальной политики на муниципальном уровне | C10: 0 | D10: 0
A11: 1.5. | B11: модернизация городского хозяйства посредством внедрения цифровых технологий и платформенных решений ("умный город") . | C11: 0 | D11: 0
A12: 2 | B12: Всероссийский конкурс проектов инициативного бюджетирования | C12: 0 | D12: 0
A13: 3 | B13: Всероссийский конкурс лучших проектов создания комфортной городской среды, по следующим категориям: | C13: 1 | D13: 1
A14: 3.1. | B14: исторические поселения | C14: 0 | D14: 0
A15: 3.2. | B15: малые города | C15: 1 | D15: 1
A16: 4 | B16: Иные федеральные конкурсы (указать) | C16: 2 | D16: 2
A17: 4.1. | B17: Федеральный конкурс программ комплексного развития молодежной политики «Регион для молодых" (победа) | C17: 1 | D17: 1
A18: 4.2. | B18: Всероссийской конкурс лучших практик в сфере национальных отношений (итоги не подведены) | C18: 1 | D18: 1

Sheet Черемховский район
A1: Таблица 4
A3: № | B3: Наименование конкурса | C3: Количество муниципальных образований, принявших участие в конкурсе в 2024 году, ед.
C4: всего | D4: в том числе:
D5: городские округа | E5: муниципальные округа | F5: муниципальные районы | G5: городские поселения | H5: сельские поселения | I5: внутригородские муниципальные образования городов федерального значения
A6: 1. | B6: Всероссийский конкурс "Лучшая муниципальная практика", в номинациях: | C6: 1 | H6: 1
A7: 1.1. | B7: градостроительная политика, обеспечение благоприятной среды жизнедеятельности населения и развитие жилищно-коммунального хозяйства
A8: 1.2. | B8: муниципальная экономическая политика и управление муниципальными финансами
A9: 1.3. | B9: обеспечение эффективной "обратной связи" с жителями муниципальных образований, развитие территориального общественного самоуправления и привлечение граждан к осуществлению (участию в осуществлении) местного самоуправления в иных формах
A10: 1.4. | B10: укрепление межнационального мира и согласия, реализация иных мероприятий в сфере национальной политики на муниципальном уровне | C10: 1 | H10: 1
A11: 1.5. | B11: модернизация городского хозяйства посредством внедрения цифровых технологий и платформенных решений ("умный город") .
A12: 2 | B12: Всероссийский конкурс проектов инициативного бюджетирования
A13: 3 | B13: Всероссийский конкурс лучших проектов создания комфортной городской среды, по следующим категориям:
A14: 3.1. | B14: исторические поселения
A15: 3.2. | B15: малые города
A16: 4 | B16: Иные федеральные конкурсы (указать): | C16: 1 | H16: 1
B17: Всероссийский конкурс "Лучшая практика ТОС" в номинации "Социальная поддержка населения" | C17: 1 | H17: 1

Sheet Город Иркутск 
A1: Город Иркутск Таблица 4
A3: № | B3: Наименование конкурса | C3: Количество муниципальных образований, принявших участие в конкурсе в 2024 году, ед.
C4: всего | D4: в том числе:
D5: городские округа | E5: муниципальные округа | F5: муниципальные районы | G5: городские поселения | H5: сельские поселения | I5: внутригородские муниципальные образования городов федерального значения
A6: 1. | B6: Всероссийский конкурс "Лучшая муниципальная практика", в номинациях: | C6: 2 | D6: 2
A7: 1.1. | B7: градостроительная политика, обеспечение благоприятной среды жизнедеятельности населения и развитие жилищно-коммунального хозяйства
A8: 1.2. | B8: муниципальная экономическая политика и управление муниципальными финансами | C8: 1 | D8: 1
A9: 1.3. | B9: обеспечение эффективной "обратной связи" с жителями муниципальных образований, развитие территориального общественного самоуправления и привлечение граждан к осуществлению (участию в осуществлении) местного самоуправления в иных формах | C9: 1 | D9: 1
A10: 1.4. | B10: укрепление межнационального мира и согласия, реализация иных мероприятий в сфере национальной политики на муниципальном уровне
A11: 1.5. | B11: модернизация городского хозяйства посредством внедрения цифровых технологий и платформенных решений ("умный город") .
A12: 2 | B12: Всероссийский конкурс проектов инициативного бюджетирования
A13: 3 | B13: Всероссийский конкурс лучших проектов создания комфортной городской среды, по следующим категориям:
A14: 3.1. | B14: исторические поселения
A15: 3.2. | B15: малые города
A16: 4 | B16: Иные федеральные конкурсы (указать): | C16: 10 | D16: 10
B17: Первый Всероссийский конкурс «Лучший исполнительный орган государственной (муниципальной) власти России в сфере управленческих инноваций»
B18: XVII Международный смотр-конкурс городских практик городов СНГ и ЕАЭС "Город, где хочется жить" - 2024
B19: Смотр-Конкурс "Лучшие городские стратегии", проходивший в рамках Международного фестиваля "Зодчество в Сибири" » г Красноярск в 2024 году
B20: XVII Международный смотр-конкурс городских практик городов СНГ и ЕАЭС "Город, где хочется жить" - 2024
B21: И Международный туристский кинофестиваль "Диво Мира"
B22: Окружной конкурс Сибирского и Дальневосточного федеральных округов Международной премии в области событийного туризма "Russian Event Awards - 2024"
B23: Всероссийский конкурс "Лучшее муниципальное образование России в сфере управления общественными финансами" IV Всероссийский конкурс «Лучшая муниципальная пресс-служба» в номинации «Лучшая пресс-служба администрации центра Субъекта Федерации РФ»
B24: ХХ Всероссийский конкурс "Лучший муниципальный сайт"

Sheet Усольский район
A1: Усольский район Таблица 4
A3: № | B3: Наименование конкурса | C3: Количество муниципальных образований, принявших участие в конкурсе в 2024 году, ед.
C4: всего | D4: в том числе:
D5: городские округа | E5: муниципальные округа | F5: муниципальные районы | G5: городские поселения | H5: сельские поселения | I5: внутригородские муниципальные образования городов федерального значения
A6: 1. | B6: Всероссийский конкурс "Лучшая муниципальная практика", в номинациях:
A7: 1.1. | B7: градостроительная политика, обеспечение благоприятной среды жизнедеятельности населения и развитие жилищно-коммунального хозяйства
A8: 1.2. | B8: муниципальная экономическая политика и управление муниципальными финансами
A9: 1.3. | B9: обеспечение эффективной "обратной связи" с жителями муниципальных образований, развитие территориального общественного самоуправления и привлечение граждан к осуществлению (участию в осуществлении) местного самоуправления в иных формах
A10: 1.4. | B10: укрепление межнационального мира и согласия, реализация иных мероприятий в сфере национальной политики на муниципальном уровне
A11: 1.5. | B11: модернизация городского хозяйства посредством внедрения цифровых технологий и платформенных решений ("умный город") .
A12: 2 | B12: Всероссийский конкурс проектов инициативного бюджетирования
A13: 3 | B13: Всероссийский конкурс лучших проектов создания комфортной городской среды, по следующим категориям:
A14: 3.1. | B14: исторические поселения
A15: 3.2. | B15: малые города
A16: 4 | B16: Иные федеральные конкурсы (указать):
B17: Всероссийский конкурс "Лучшая практика ТОС" в номинации "Социальная поддержка населения" (* XVII Всероссийский конкурс "Лучшее муниципальное образование России в сфере управления общественными финансами") | C17: 1 | F17: 1
